BEGIN:VCALENDAR
VERSION:2.0
PRODID:-//Stained Glass Centre for the Performing Arts - ECPv6.15.20//NONSGML v1.0//EN
CALSCALE:GREGORIAN
METHOD:PUBLISH
X-WR-CALNAME:Stained Glass Centre for the Performing Arts
X-ORIGINAL-URL:https://stainedglasscentre.ca
X-WR-CALDESC:Events for Stained Glass Centre for the Performing Arts
REFRESH-INTERVAL;VALUE=DURATION:PT1H
X-Robots-Tag:noindex
X-PUBLISHED-TTL:PT1H
BEGIN:VTIMEZONE
TZID:America/Toronto
BEGIN:DAYLIGHT
TZOFFSETFROM:-0500
TZOFFSETTO:-0400
TZNAME:EDT
DTSTART:20250309T070000
END:DAYLIGHT
BEGIN:STANDARD
TZOFFSETFROM:-0400
TZOFFSETTO:-0500
TZNAME:EST
DTSTART:20251102T060000
END:STANDARD
BEGIN:DAYLIGHT
TZOFFSETFROM:-0500
TZOFFSETTO:-0400
TZNAME:EDT
DTSTART:20260308T070000
END:DAYLIGHT
BEGIN:STANDARD
TZOFFSETFROM:-0400
TZOFFSETTO:-0500
TZNAME:EST
DTSTART:20261101T060000
END:STANDARD
BEGIN:DAYLIGHT
TZOFFSETFROM:-0500
TZOFFSETTO:-0400
TZNAME:EDT
DTSTART:20270314T070000
END:DAYLIGHT
BEGIN:STANDARD
TZOFFSETFROM:-0400
TZOFFSETTO:-0500
TZNAME:EST
DTSTART:20271107T060000
END:STANDARD
END:VTIMEZONE
BEGIN:VEVENT
DTSTART;TZID=America/Toronto:20260419T180000
DTEND;TZID=America/Toronto:20260419T200000
DTSTAMP:20260419T233202
CREATED:20260310T052935Z
LAST-MODIFIED:20260415T191832Z
UID:2412-1776621600-1776628800@stainedglasscentre.ca
SUMMARY:FAMILY MOVIE NIGHT - ZOOTOPIA 2
DESCRIPTION:April 19\n	 @\n6:00 pm\n	 –\n8:00 pm \n \nFAMILY MOVIE NIGHT – ZOOTOPIA 2 FREE ENTRY\nJoin us for a FREE Film-Filled Evening presented by Stained Glass Centre for the Performing Arts\, Imraz Ramani – Your Favourite Door Knocker\, I Love Stouffville\, Hummingbird Hub\, O’Neill Funeral Home and our newest sponsor\, InnAd Academy. \n FREE Admission! Sunday\, April 19 6:00 pmDoors open at 5:30pm Stained Glass Centre34 Church Street N\, Stouffville Hot dogs and snacks available for purchase Reserve your FREE ticket online at:https://stainedglasscentre.ca/event \n“Zootopia 2” is an animated buddy cop comedy film that follows detectives Judy Hopps and Nick Wilde as they tackle a new mystery involving a reptile named Gary De’Snake\, testing their partnership and confronting hidden biases in the city of Zootopia. \n#MovieNight#Family#StouffvilleEvents#stainedglasscentre_pa#ilovestouffville#hummingbirdhubstouffville#InnEdAcademy \n\n		\n		\n		\n		 \n\n	Tickets\n		The numbers below include tickets for this event already in your cart. Clicking “Get Tickets” will allow you to edit any existing attendee information as well as change ticket quantities.\n				Family Movie Night – Zootopia 2\n	“Zootopia 2” is an animated buddy cop comedy film that follows detectives Judy Hopps and Nick Wilde as they tackle a new mystery involving a reptile named Gary De’Snake\, testing their partnership and confronting hidden biases in the city of Zootopia.\n		$0.00\n	Unlimited\n						\n	Decrease ticket quantity for Family Movie Night – Zootopia 2\n	–\n	\n		Quantity	\n	\n					\n	Increase ticket quantity for Family Movie Night – Zootopia 2\n	+\n		\n		Quantity:\n	0\n		Total:\n		$0.00\n	Get Tickets\n	\n	\n\n	\n	\n\n	\n	\n\n			\n\n	Categories:\n		Film	 \n\n					\n			905-640-1163			\n	 \n\n\n					\n			office@stainedglasscentre.ca			\n	 \n\n	Tags:\n		\n	Family\,\n\n	Movie Night\,\n\n	Zootopia 2 \n\n	« All Events
URL:https://stainedglasscentre.ca/event/family-movie-night-zootopia-2/
LOCATION:Stained Glass Centre for the Performing Arts\, 34 Church Street North\, Stouffville\, Ontario\, Canada
CATEGORIES:Film
ATTACH;FMTTYPE=image/jpeg:https://stainedglasscentre.ca/wp-content/uploads/2026/03/1.jpg
ORGANIZER;CN="Stained Glass Centre for the Performing Arts":MAILTO:office@stainedglasscentre.ca
END:VEVENT
END:VCALENDAR