BEGIN:VCALENDAR
VERSION:2.0
PRODID:-//Stained Glass Centre for the Performing Arts - ECPv6.15.20//NONSGML v1.0//EN
CALSCALE:GREGORIAN
METHOD:PUBLISH
X-ORIGINAL-URL:https://stainedglasscentre.ca
X-WR-CALDESC:Events for Stained Glass Centre for the Performing Arts
REFRESH-INTERVAL;VALUE=DURATION:PT1H
X-Robots-Tag:noindex
X-PUBLISHED-TTL:PT1H
BEGIN:VTIMEZONE
TZID:America/Toronto
BEGIN:DAYLIGHT
TZOFFSETFROM:-0500
TZOFFSETTO:-0400
TZNAME:EDT
DTSTART:20250309T070000
END:DAYLIGHT
BEGIN:STANDARD
TZOFFSETFROM:-0400
TZOFFSETTO:-0500
TZNAME:EST
DTSTART:20251102T060000
END:STANDARD
BEGIN:DAYLIGHT
TZOFFSETFROM:-0500
TZOFFSETTO:-0400
TZNAME:EDT
DTSTART:20260308T070000
END:DAYLIGHT
BEGIN:STANDARD
TZOFFSETFROM:-0400
TZOFFSETTO:-0500
TZNAME:EST
DTSTART:20261101T060000
END:STANDARD
BEGIN:DAYLIGHT
TZOFFSETFROM:-0500
TZOFFSETTO:-0400
TZNAME:EDT
DTSTART:20270314T070000
END:DAYLIGHT
BEGIN:STANDARD
TZOFFSETFROM:-0400
TZOFFSETTO:-0500
TZNAME:EST
DTSTART:20271107T060000
END:STANDARD
END:VTIMEZONE
BEGIN:VEVENT
DTSTART;TZID=America/Toronto:20260307T190000
DTEND;TZID=America/Toronto:20260307T230000
DTSTAMP:20260420T010736
CREATED:20251211T121400Z
LAST-MODIFIED:20260301T050339Z
UID:1638-1772910000-1772924400@stainedglasscentre.ca
SUMMARY:FLY ME TO THE MOON Fundraiser for Emily's House
DESCRIPTION:March 7\, 2026\n\nFLY ME TO THE MOON\nFundraiser for Emily’s House Children’s Hospice\n\n		\n		\n		\n		 \n\n	Tickets\n		The numbers below include tickets for this event already in your cart. Clicking “Get Tickets” will allow you to edit any existing attendee information as well as change ticket quantities.\n				Fly Me to the Moon Fundraiser\n	Fly Me to the Moon\nFundraiser for Emily’s House Children’s Hospice\nSaturday\, March 7\, 2026\, 7 – 11 pm Stained Glass Centre for the Performing Arts\,\n34 Church St. North\, Stouffville\n		$125.00\n						\n	Decrease ticket quantity for Fly Me to the Moon Fundraiser\n	–\n	\n		Quantity	\n	\n					\n	Increase ticket quantity for Fly Me to the Moon Fundraiser\n	+\n		\n		Quantity:\n	0\n		Total:\n		$0.00\n	Get Tickets\n	\n	\n\n	\n	\n\n	\n	\n\n			\n\n\nSelect the number of tickets you need by using the plus button then Get Tickets button\n\n\nFill out Name\, Email and Telephone information then Checkout Now\n\n\nReview the purchase information\n\n\nFor Credit Card or PayPal processing\, click PayPal Button\n\n\nPay with debit or credit card option available through PayPal site.\n\n\nUse an alternate browser if needed.\n\n\nHighlights of the Fly Me to the Moon event include:\n· Live music and dancing to the 20 piece George Lake BIG Band\n· Hors d’oeuvres by Celebrity Chef Corbin. Sweet table at end of evening\,\n· Cocktails available in the ‘Rat Pack Lounge’ designed and decorated by artist Jo Parry\n· A trio of students from UofT will play ‘gateway jazz’ in the Lounge\n· Lots of wonderful door prizes\n· Amazing auction items donated by the Markham and Stouffville business community\, and all\n· Your contributions are going to the remarkable Emily’s House Children’s Hospice!\n																														 \nWin Twice by purchasing your Fly Me to the Moon ticket before March 1st \nDon’t wait another minute to buy your tickets for the fundraiser Fly Me to the Moon  on behalf of Emily’s House Children’s Hospice   \nTicket’s purchased on or before midnight\, March 1st  are eligible to win this stunning Swarovski Tennis Necklace donated by Evangelos Fine Jewellery of Stouffville\, valued at $425.  Keep it or give it to your own sweet Valentine.   \nCome out of the cold and step into the Rat Pack Lounge on Saturday March 7th for an evening of live music\, dancing\, gourmet hors d’oeuvres\, door prizes and fantastic auction items at the Stained Glass Centre for the Performing Arts.  The Swarovski Necklace will be awarded at the event.  \nThis special evening of music will raise vital funds to help provide respite\, palliative and end-of-life care for children with complex medical needs\, while also offering comfort and support to their families.\n \nClick on the link https://paceh.ca/what-we-do/videos/ to some amazing videos\nabout the work of Emily’s House and the experience of the Geremia family.\nWith lots of brass\, a little sass\, and plenty of pizzazz\, the award-winning George Lake BIG Band would be happy to swing for you. Their finely tuned repertoire draws on the timeless appeal of the greats; Frank Sinatra\, Glenn Miller\, Duke Ellington\, Artie Shaw through Tony Bennett\, Diana Krall and Michael Buble. They are a dance band\, a swing orchestra and a full on jazz orchestra. \n																														 \nThis distinctive blend has given the George Lake Big Band a unique style that continues to win fans from every generation.  Simply put\, they can really swing!  \n															\n															\n																														 \n For more details on the Fly Me To The Moon event\, Emily’s House\, and the Geremia Family\, check out the following  https://paceh.ca/fly-me-to-the-moon/\n\n											\n															Photo taken by Roger Carlsen of Organizing Committee CLICK ON PHOTO TO WATCH VIDEO
URL:https://stainedglasscentre.ca/event/fly-me-to-the-moon-fundraiser-for-emilys-house/
LOCATION:Stained Glass Centre for the Performing Arts\, 34 Church Street North\, Stouffville\, Ontario\, Canada
CATEGORIES:Special Event
ATTACH;FMTTYPE=image/jpeg:https://stainedglasscentre.ca/wp-content/uploads/2025/12/Fly-me-to-the-moon-Poster.jpeg
END:VEVENT
BEGIN:VEVENT
DTSTART;TZID=America/Toronto:20260320T200000
DTEND;TZID=America/Toronto:20260320T220000
DTSTAMP:20260420T010736
CREATED:20260224T213402Z
LAST-MODIFIED:20260225T071529Z
UID:2237-1774036800-1774044000@stainedglasscentre.ca
SUMMARY:MOVIE NIGHT - ANACONDA
DESCRIPTION:  \nMOVIE NIGHT – ANACONDA 🎟️ FREE ENTRY\nJoin us for a FREE Film-Filled Evening presented by Stained Glass Centre for the Performing Arts\, Imraz Ramani – Your Favourite Door Knocker\, I Love Stouffville\, Hummingbird Hub\, O’Neill Funeral Home and our newest sponsor\, InnAd Academy. \n🎟 FREE Admission!\n📅 Friday\, March 20\n🕕 8:00 pm\nDoors open at 7:30pm\n📍 Stained Glass Centre\n34 Church Street N\, Stouffville\n🌭 Hot dogs and snacks available for purchase\n🎟️ Reserve your FREE ticket online at:\n👉https://stainedglasscentre.ca/event/movie-night-anaconda/\nAGE 13+ \nIn this action-comedy reboot directed by Tom Gormican\, the story follows Doug (played by Jack Black) and Griff (played by Paul Rudd)\, who are best friends and aspiring filmmakers. Motivated by a midlife crisis and a desire to recapture their youth\, they decide to embark on a journey to the Amazon rainforest to film an amateur remake of the 1997 cult classic “Anaconda\,” which they cherished in their youth. \n#MovieNight\n#StouffvilleEvents\n#stainedglasscentre_pa\, #ilovestouffville #hummingbirdhubstouffville\n#InnEdAcademy
URL:https://stainedglasscentre.ca/event/movie-night-anaconda/
LOCATION:Stained Glass Centre for the Performing Arts\, 34 Church Street North\, Stouffville\, Ontario\, Canada
CATEGORIES:Film
ATTACH;FMTTYPE=image/jpeg:https://stainedglasscentre.ca/wp-content/uploads/2026/02/SGC-Movie-Anaconda-Presentation.jpg
ORGANIZER;CN="Stained Glass Centre for the Performing Arts":MAILTO:office@stainedglasscentre.ca
END:VEVENT
BEGIN:VEVENT
DTSTART;TZID=America/Toronto:20260321T193000
DTEND;TZID=America/Toronto:20260321T210000
DTSTAMP:20260420T010736
CREATED:20260128T224824Z
LAST-MODIFIED:20260213T222257Z
UID:1977-1774121400-1774126800@stainedglasscentre.ca
SUMMARY:GET TOGETHER SINGALONG SHOW- March 2026
DESCRIPTION:March 21\n@\n7:30 pm\n–\n9:00 pm\nStained Glass Centre for the Performing Arts Presents\nSue and Dwight with friends in the\n“GET TOGETHER” Singalong Show\n \nSongs of Peace Love and Happiness\nfrom the 60’s and 70’s\n \n“Because everybody wanted more.”\n\n\n\n\n\n\nTickets\nThe numbers below include tickets for this event already in your cart. Clicking “Get Tickets” will allow you to edit any existing attendee information as well as change ticket quantities.\nGET TOGETHER CONCERT – March 2026\nStained Glass Centre for the Performing Arts Presents\nSue and Dwight with friends in the\n“GET TOGETHER” Singalong Show\nSongs of Peace Love and Happiness\nfrom the 60’s and 70’s\n$25.00\nUnlimited\n\nDecrease ticket quantity for GET TOGETHER CONCERT – March 2026\n–\n\nQuantity \n\n\nIncrease ticket quantity for GET TOGETHER CONCERT – March 2026\n+\n\nQuantity:\n0\nTotal:\n$0.00\nGet Tickets\n\n\n\n\n\n\n\n\n\n\nCategories:\nMusic\nStained Glass Centre for the Performing Arts\n\n905-640-1163 \n\n\noffice@stainedglasscentre.ca \nTags:\n\nGreat Music\,\n\nSingalong\n\n« All Events\n\n\n\n 	\nFLY ME TO THE MOON Fundraiser for Emily’s House \n 	\nSongs and Dances for Four Clarinets – 2025-26 Classical Concert Series
URL:https://stainedglasscentre.ca/event/get-together-concert/
LOCATION:Stained Glass Centre for the Performing Arts\, 34 Church Street North\, Stouffville\, Ontario\, Canada
CATEGORIES:Music
ATTACH;FMTTYPE=image/jpeg:https://stainedglasscentre.ca/wp-content/uploads/2026/01/SGC-Get-Together-slide.jpg
ORGANIZER;CN="Stained Glass Centre for the Performing Arts":MAILTO:office@stainedglasscentre.ca
END:VEVENT
END:VCALENDAR