BEGIN:VCALENDAR
VERSION:2.0
PRODID:-//Stained Glass Centre for the Performing Arts - ECPv6.15.20//NONSGML v1.0//EN
CALSCALE:GREGORIAN
METHOD:PUBLISH
X-ORIGINAL-URL:https://stainedglasscentre.ca
X-WR-CALDESC:Events for Stained Glass Centre for the Performing Arts
REFRESH-INTERVAL;VALUE=DURATION:PT1H
X-Robots-Tag:noindex
X-PUBLISHED-TTL:PT1H
BEGIN:VTIMEZONE
TZID:America/Toronto
BEGIN:DAYLIGHT
TZOFFSETFROM:-0500
TZOFFSETTO:-0400
TZNAME:EDT
DTSTART:20250309T070000
END:DAYLIGHT
BEGIN:STANDARD
TZOFFSETFROM:-0400
TZOFFSETTO:-0500
TZNAME:EST
DTSTART:20251102T060000
END:STANDARD
BEGIN:DAYLIGHT
TZOFFSETFROM:-0500
TZOFFSETTO:-0400
TZNAME:EDT
DTSTART:20260308T070000
END:DAYLIGHT
BEGIN:STANDARD
TZOFFSETFROM:-0400
TZOFFSETTO:-0500
TZNAME:EST
DTSTART:20261101T060000
END:STANDARD
BEGIN:DAYLIGHT
TZOFFSETFROM:-0500
TZOFFSETTO:-0400
TZNAME:EDT
DTSTART:20270314T070000
END:DAYLIGHT
BEGIN:STANDARD
TZOFFSETFROM:-0400
TZOFFSETTO:-0500
TZNAME:EST
DTSTART:20271107T060000
END:STANDARD
END:VTIMEZONE
BEGIN:VEVENT
DTSTART;TZID=America/Toronto:20260509T193000
DTEND;TZID=America/Toronto:20260509T213000
DTSTAMP:20260420T005758
CREATED:20260316T235956Z
LAST-MODIFIED:20260402T063626Z
UID:2480-1778355000-1778362200@stainedglasscentre.ca
SUMMARY:ANTICIPATION - The Carly Simon and  James Taylor Story
DESCRIPTION:Anticipation Concert Cancelled: While concert organizers were unable to move forward with the Anticipation Concert as planned\, we’re excited about the opportunity to bring it back to Stained Glass Centre for the Performing Arts at a future date. Thank you for your support—we look forward to sharing an even more memorable experience with you soon!
URL:https://stainedglasscentre.ca/event/anticipation-the-carly-simon-and-james-taylor-story/
LOCATION:Stained Glass Centre for the Performing Arts\, 34 Church Street North\, Stouffville\, Ontario\, Canada
CATEGORIES:Music
ATTACH;FMTTYPE=image/png:https://stainedglasscentre.ca/wp-content/uploads/2026/03/Stained-Glass-1920x1080-1.png
END:VEVENT
BEGIN:VEVENT
DTSTART;TZID=America/Toronto:20260522T193000
DTEND;TZID=America/Toronto:20260522T210000
DTSTAMP:20260420T005758
CREATED:20251031T101957Z
LAST-MODIFIED:20260310T212944Z
UID:1346-1779478200-1779483600@stainedglasscentre.ca
SUMMARY:Songs and Dances for Four Clarinets - 2025-26 Classical Concert Series
DESCRIPTION:Songs and Dances for Four Clarinets – 2025-26 Classical Concert Series\n			May 22\n	 @\n7:30 pm\n	 –\n9:00 pm\n	 \n\n		\n		\n		\n		 \n\n	Tickets\n		The numbers below include tickets for this event already in your cart. Clicking “Get Tickets” will allow you to edit any existing attendee information as well as change ticket quantities.\n				Single Ticket – Songs and Dances for Four Clarinets\n	Bringing Classical Music to our Community.\nDaydreaming – featuring Hermosa (clarinet quartet)\n		$30.00\n						\n	Decrease ticket quantity for Single Ticket – Songs and Dances for Four Clarinets\n	–\n	\n		Quantity	\n	\n					\n	Increase ticket quantity for Single Ticket – Songs and Dances for Four Clarinets\n	+\n		\n		Quantity:\n	0\n		Total:\n		$0.00\n	Get Tickets\n	\n	\n\n	\n	\n\n	\n	\n\n			\n\n\nSelect the number of tickets you need by using the plus button then Get Tickets button\n\n\nFill out Name\, Email and Telephone information then Checkout Now\n\n\nReview the purchase information\n\n\nFor Credit Card or PayPal processing\, click PayPal Button\n\n\nPay with debit or credit card option available through PayPal site.\n\n\nUse an alternate browser if needed.\n\n\nFeaturing Hermosa Clarinet Ensemble\n																														 \nThe Hermosa Clarinet Ensemble is made up of four friends who are also accomplished clarinet players. They share a love of music and performing and began discussing forming an ensemble while playing together in the Scarborough Philharmonic Orchestra. Kaye Royer is principal clarinet there and her husband Ron is the music director. Barbara Newman holds the position of second clarinet with the SPO. Katherine Carleton is the orchestra’s bass clarinet player and Daniel Hasznos often joins the section. These players enjoy the Scarborough Philharmonic’s high artistic standard and its connection to community and the joy of bringing more music to the world. The unity of an ensemble made up entirely of clarinets is a dynamic and exciting sound experience and they also love the fun and diverse repertoire. They hope you will enjoy this quartet of clarinets!\n																														 \nThe Series Pass grants access to both concerts.  Use the Pass QR code for Daydreaming and Songs & Dances for Four Clarinets.\nhttps://stainedglasscentre.ca/event/daydreaming-2025-26-classical-concert-series/		 \n\n	Tags:\n		\n	Classical Concert Series\,\n\n	Hermosa\,\n\n	Songs and Dances for Four Clarinets \n\n	Organizer\n\n	Stained Glass Centre for the Performing Arts\n\n					\n			905-640-1163			\n	 \n\n\n					\n			office@stainedglasscentre.ca			\n	 \n\n	Categories:\n		Music	 \n\n	Stained Glass Centre for the Performing Arts\n\n34 Church Street North\n		\n		Stouffville\,\n	Ontario\n	Canada\n\n\n	+ Google Map \n\n					\n						\n	 \n\n\n \n\n	« All Events
URL:https://stainedglasscentre.ca/event/songs-and-dances-for-four-clarinets/
LOCATION:Stained Glass Centre for the Performing Arts\, 34 Church Street North\, Stouffville\, Ontario\, Canada
CATEGORIES:Music
ATTACH;FMTTYPE=image/jpeg:https://stainedglasscentre.ca/wp-content/uploads/2025/10/2.jpg
ORGANIZER;CN="Stained Glass Centre for the Performing Arts":MAILTO:office@stainedglasscentre.ca
END:VEVENT
BEGIN:VEVENT
DTSTART;TZID=America/Toronto:20260529T200000
DTEND;TZID=America/Toronto:20260529T220000
DTSTAMP:20260420T005758
CREATED:20260310T201450Z
LAST-MODIFIED:20260310T201450Z
UID:2432-1780084800-1780092000@stainedglasscentre.ca
SUMMARY:MOVIE NIGHT - WICKED FOR GOOD
DESCRIPTION:
URL:https://stainedglasscentre.ca/event/movie-night-wicked-for-good/
LOCATION:Stained Glass Centre for the Performing Arts\, 34 Church Street North\, Stouffville\, Ontario\, Canada
CATEGORIES:Film
ATTACH;FMTTYPE=image/jpeg:https://stainedglasscentre.ca/wp-content/uploads/2026/03/Movie-Nights-AMJ2026-Presentation-1.jpg
ORGANIZER;CN="Stained Glass Centre for the Performing Arts":MAILTO:office@stainedglasscentre.ca
END:VEVENT
END:VCALENDAR